{
 "currentVersion": 10.81,
 "serviceDescription": "This layer presents an alternative view of the World Imagery map designed to be used as a neutral imagery basemap, with de-saturated colors, that is useful for overlaying other brightly styled layers.  This map is intended to support 'firefly cartography' and other cartographic designs that require a neutral background, with the spatial context and texture of imagery, to contrast with the foreground thematic layers that are designed to capture the users attention. Content meant to provide spatial context (the basemap) should recede in visual priority, helping to establish the thematic layers that they support (rather than compete with them).  There are many ways to sufficiently mute your basemap, but for satellite imagery, de-saturation is a nice option. An image that is all or mostly black and white won.t compete as much with the brightly colored thematic data that it supports.  With this map, the color of the imagery is mostly removed at the smallest global scales and then gradually re-introduced at the larger scales, where the full detail of the imagery is available.",
 "mapName": "Layers",
 "description": "This layer presents an alternative view of the World Imagery map designed to be used as a neutral imagery basemap, with de-saturated colors, that is useful for overlaying other brightly styled layers.  This map is intended to support 'firefly cartography' and other cartographic designs that require a neutral background, with the spatial context and texture of imagery, to contrast with the foreground thematic layers that are designed to capture the users attention. Content meant to provide spatial context (the basemap) should recede in visual priority, helping to establish the thematic layers that they support (rather than compete with them).  There are many ways to sufficiently mute your basemap, but for satellite imagery, de-saturation is a nice option. An image that is all or mostly black and white won.t compete as much with the brightly colored thematic data that it supports.  With this map, the color of the imagery is mostly removed at the smallest global scales and then gradually re-introduced at the larger scales, where the full detail of the imagery is available.",
 "copyrightText": "Source: Esri, Vantor, Earthstar Geographics, and the GIS User Community",
 "supportsDynamicLayers": false,
"layers": [
 {
   "id": 0,
   "name": "Citations",
   "parentLayerId": -1,
   "defaultVisibility": true,
   "subLayerIds": [
    1,
    2,
    3,
    4
   ],
   "minScale": 0,
   "maxScale": 0
  },
 {
   "id": 1,
   "name": "Citations 1m",
   "parentLayerId": 0,
   "defaultVisibility": true,
   "subLayerIds": null,
   "minScale": 50000,
   "maxScale": 3001
  },
 {
   "id": 2,
   "name": "Citations 60cm",
   "parentLayerId": 0,
   "defaultVisibility": true,
   "subLayerIds": null,
   "minScale": 3000,
   "maxScale": 1500
  },
 {
   "id": 3,
   "name": "Citations 30cm",
   "parentLayerId": 0,
   "defaultVisibility": true,
   "subLayerIds": null,
   "minScale": 1500,
   "maxScale": 751
  },
 {
   "id": 4,
   "name": "Citations 15cm",
   "parentLayerId": 0,
   "defaultVisibility": true,
   "subLayerIds": null,
   "minScale": 750,
   "maxScale": 1
  }
],
 "tables": [],
 "spatialReference": {
  "wkid": 102100,
  "latestWkid": 3857
 },
 "singleFusedMapCache": true,
 "tileInfo": {
  "rows": 256,
  "cols": 256,
  "dpi": 96,
  "format": "JPEG",
  "compressionQuality": 75,
  "origin": {
   "x": -2.0037508342787E7,
   "y": 2.0037508342787E7
  },
  "spatialReference": {
   "wkid": 102100,
   "latestWkid": 3857
  },
  "lods": [
   {
    "level": 0,
    "resolution": 156543.03392800014,
    "scale": 5.91657527591555E8
   },
   {
    "level": 1,
    "resolution": 78271.51696399994,
    "scale": 2.95828763795777E8
   },
   {
    "level": 2,
    "resolution": 39135.75848200009,
    "scale": 1.47914381897889E8
   },
   {
    "level": 3,
    "resolution": 19567.87924099992,
    "scale": 7.3957190948944E7
   },
   {
    "level": 4,
    "resolution": 9783.93962049996,
    "scale": 3.6978595474472E7
   },
   {
    "level": 5,
    "resolution": 4891.96981024998,
    "scale": 1.8489297737236E7
   },
   {
    "level": 6,
    "resolution": 2445.98490512499,
    "scale": 9244648.868618
   },
   {
    "level": 7,
    "resolution": 1222.992452562495,
    "scale": 4622324.434309
   },
   {
    "level": 8,
    "resolution": 611.4962262813797,
    "scale": 2311162.217155
   },
   {
    "level": 9,
    "resolution": 305.74811314055756,
    "scale": 1155581.108577
   },
   {
    "level": 10,
    "resolution": 152.87405657041106,
    "scale": 577790.554289
   },
   {
    "level": 11,
    "resolution": 76.43702828507324,
    "scale": 288895.277144
   },
   {
    "level": 12,
    "resolution": 38.21851414253662,
    "scale": 144447.638572
   },
   {
    "level": 13,
    "resolution": 19.10925707126831,
    "scale": 72223.819286
   },
   {
    "level": 14,
    "resolution": 9.554628535634155,
    "scale": 36111.909643
   },
   {
    "level": 15,
    "resolution": 4.77731426794937,
    "scale": 18055.954822
   },
   {
    "level": 16,
    "resolution": 2.388657133974685,
    "scale": 9027.977411
   },
   {
    "level": 17,
    "resolution": 1.1943285668550503,
    "scale": 4513.988705
   },
   {
    "level": 18,
    "resolution": 0.5971642835598172,
    "scale": 2256.994353
   },
   {
    "level": 19,
    "resolution": 0.29858214164761665,
    "scale": 1128.497176
   },
   {
    "level": 20,
    "resolution": 0.14929107082380833,
    "scale": 564.248588
   },
   {
    "level": 21,
    "resolution": 0.07464553541190416,
    "scale": 282.124294
   },
   {
    "level": 22,
    "resolution": 0.03732276770595208,
    "scale": 141.062147
   },
   {
    "level": 23,
    "resolution": 0.01866138385297604,
    "scale": 70.5310735
   }
  ]
 },
 "initialExtent": {
  "xmin": -2.7680880158351306E7,
  "ymin": -195164.8424795773,
  "xmax": 2.7680880158351306E7,
  "ymax": 1.9971868880408563E7,
  "spatialReference": {
   "wkid": 102100,
   "latestWkid": 3857
  }
 },
 "fullExtent": {
  "xmin": -2.003750722959434E7,
  "ymin": -1.997186888040859E7,
  "xmax": 2.003750722959434E7,
  "ymax": 1.9971868880408563E7,
  "spatialReference": {
   "wkid": 102100,
   "latestWkid": 3857
  }
 },
 "minScale": 0,
 "maxScale": 0,
 "units": "esriMeters",
 "supportedImageFormatTypes": "PNG32,PNG24,PNG,JPG,DIB,TIFF,EMF,PS,PDF,GIF,SVG,SVGZ,BMP",
 "documentInfo": {
  "Title": "World Imagery Firefly",
  "Author": "Esri",
  "Comments": "",
  "Subject": "imagery, satellite, aerial, 500m (World), 15m (World)",
  "Category": "imageryBaseMapsEarthCover (Imagery, basemaps, and land cover)",
  "AntialiasingMode": "None",
  "TextAntialiasingMode": "Force",
  "Keywords": "World,Global,United States"
 },
 "capabilities": "Map,Tilemap",
 "supportedQueryFormats": "JSON, AMF",
 "exportTilesAllowed": false,
 "maxRecordCount": 100,
 "maxImageHeight": 4096,
 "maxImageWidth": 4096,
 "supportedExtensions": "KmlServer"
}
